BEGIN:VCALENDAR
VERSION:2.0
PRODID:-//Tina Hilbert Consulting, LLC - ECPv6.15.20//NONSGML v1.0//EN
CALSCALE:GREGORIAN
METHOD:PUBLISH
X-WR-CALNAME:Tina Hilbert Consulting, LLC
X-ORIGINAL-URL:https://tinahilbertconsulting.com
X-WR-CALDESC:Events for Tina Hilbert Consulting, LLC
REFRESH-INTERVAL;VALUE=DURATION:PT1H
X-Robots-Tag:noindex
X-PUBLISHED-TTL:PT1H
BEGIN:VTIMEZONE
TZID:UTC
BEGIN:STANDARD
TZOFFSETFROM:+0000
TZOFFSETTO:+0000
TZNAME:UTC
DTSTART:20240101T000000
END:STANDARD
END:VTIMEZONE
BEGIN:VEVENT
DTSTART;TZID=UTC:20260420T100000
DTEND;TZID=UTC:20260420T170000
DTSTAMP:20260424T114542
CREATED:20210202T082439Z
LAST-MODIFIED:20250417T093433Z
UID:1842-1776679200-1776704400@tinahilbertconsulting.com
SUMMARY:Monday 10:00 AM CST  Kundalini Yoga
DESCRIPTION:
URL:https://tinahilbertconsulting.com/event/monday-1000-am-cst-kundalini-yoga/2026-04-20/
ATTACH;FMTTYPE=image/png:https://tinahilbertconsulting.com/wp-content/uploads/2021/02/144738930_243480787320604_9093137081096043842_n-1.png
END:VEVENT
BEGIN:VEVENT
DTSTART;TZID=UTC:20260413T100000
DTEND;TZID=UTC:20260413T170000
DTSTAMP:20260424T114542
CREATED:20210202T082439Z
LAST-MODIFIED:20250417T093432Z
UID:1841-1776074400-1776099600@tinahilbertconsulting.com
SUMMARY:Monday 10:00 AM CST  Kundalini Yoga
DESCRIPTION:
URL:https://tinahilbertconsulting.com/event/monday-1000-am-cst-kundalini-yoga/2026-04-13/
ATTACH;FMTTYPE=image/png:https://tinahilbertconsulting.com/wp-content/uploads/2021/02/144738930_243480787320604_9093137081096043842_n-1.png
END:VEVENT
BEGIN:VEVENT
DTSTART;TZID=UTC:20260406T100000
DTEND;TZID=UTC:20260406T170000
DTSTAMP:20260424T114542
CREATED:20210202T082439Z
LAST-MODIFIED:20250417T093431Z
UID:1840-1775469600-1775494800@tinahilbertconsulting.com
SUMMARY:Monday 10:00 AM CST  Kundalini Yoga
DESCRIPTION:
URL:https://tinahilbertconsulting.com/event/monday-1000-am-cst-kundalini-yoga/2026-04-06/
ATTACH;FMTTYPE=image/png:https://tinahilbertconsulting.com/wp-content/uploads/2021/02/144738930_243480787320604_9093137081096043842_n-1.png
END:VEVENT
BEGIN:VEVENT
DTSTART;TZID=UTC:20260330T100000
DTEND;TZID=UTC:20260330T170000
DTSTAMP:20260424T114542
CREATED:20210202T082439Z
LAST-MODIFIED:20250417T093429Z
UID:1839-1774864800-1774890000@tinahilbertconsulting.com
SUMMARY:Monday 10:00 AM CST  Kundalini Yoga
DESCRIPTION:
URL:https://tinahilbertconsulting.com/event/monday-1000-am-cst-kundalini-yoga/2026-03-30/
ATTACH;FMTTYPE=image/png:https://tinahilbertconsulting.com/wp-content/uploads/2021/02/144738930_243480787320604_9093137081096043842_n-1.png
END:VEVENT
BEGIN:VEVENT
DTSTART;TZID=UTC:20260323T100000
DTEND;TZID=UTC:20260323T170000
DTSTAMP:20260424T114542
CREATED:20210202T082439Z
LAST-MODIFIED:20250417T093428Z
UID:1838-1774260000-1774285200@tinahilbertconsulting.com
SUMMARY:Monday 10:00 AM CST  Kundalini Yoga
DESCRIPTION:
URL:https://tinahilbertconsulting.com/event/monday-1000-am-cst-kundalini-yoga/2026-03-23/
ATTACH;FMTTYPE=image/png:https://tinahilbertconsulting.com/wp-content/uploads/2021/02/144738930_243480787320604_9093137081096043842_n-1.png
END:VEVENT
BEGIN:VEVENT
DTSTART;TZID=UTC:20260316T100000
DTEND;TZID=UTC:20260316T170000
DTSTAMP:20260424T114542
CREATED:20210202T082439Z
LAST-MODIFIED:20250417T093427Z
UID:1837-1773655200-1773680400@tinahilbertconsulting.com
SUMMARY:Monday 10:00 AM CST  Kundalini Yoga
DESCRIPTION:
URL:https://tinahilbertconsulting.com/event/monday-1000-am-cst-kundalini-yoga/2026-03-16/
ATTACH;FMTTYPE=image/png:https://tinahilbertconsulting.com/wp-content/uploads/2021/02/144738930_243480787320604_9093137081096043842_n-1.png
END:VEVENT
BEGIN:VEVENT
DTSTART;TZID=UTC:20260309T100000
DTEND;TZID=UTC:20260309T170000
DTSTAMP:20260424T114542
CREATED:20210202T082439Z
LAST-MODIFIED:20250417T093427Z
UID:1836-1773050400-1773075600@tinahilbertconsulting.com
SUMMARY:Monday 10:00 AM CST  Kundalini Yoga
DESCRIPTION:
URL:https://tinahilbertconsulting.com/event/monday-1000-am-cst-kundalini-yoga/2026-03-09/
ATTACH;FMTTYPE=image/png:https://tinahilbertconsulting.com/wp-content/uploads/2021/02/144738930_243480787320604_9093137081096043842_n-1.png
END:VEVENT
BEGIN:VEVENT
DTSTART;TZID=UTC:20260302T100000
DTEND;TZID=UTC:20260302T170000
DTSTAMP:20260424T114542
CREATED:20210202T082439Z
LAST-MODIFIED:20250417T093426Z
UID:1835-1772445600-1772470800@tinahilbertconsulting.com
SUMMARY:Monday 10:00 AM CST  Kundalini Yoga
DESCRIPTION:
URL:https://tinahilbertconsulting.com/event/monday-1000-am-cst-kundalini-yoga/2026-03-02/
ATTACH;FMTTYPE=image/png:https://tinahilbertconsulting.com/wp-content/uploads/2021/02/144738930_243480787320604_9093137081096043842_n-1.png
END:VEVENT
BEGIN:VEVENT
DTSTART;TZID=UTC:20260223T100000
DTEND;TZID=UTC:20260223T170000
DTSTAMP:20260424T114542
CREATED:20210202T082439Z
LAST-MODIFIED:20250417T093426Z
UID:1834-1771840800-1771866000@tinahilbertconsulting.com
SUMMARY:Monday 10:00 AM CST  Kundalini Yoga
DESCRIPTION:
URL:https://tinahilbertconsulting.com/event/monday-1000-am-cst-kundalini-yoga/2026-02-23/
ATTACH;FMTTYPE=image/png:https://tinahilbertconsulting.com/wp-content/uploads/2021/02/144738930_243480787320604_9093137081096043842_n-1.png
END:VEVENT
BEGIN:VEVENT
DTSTART;TZID=UTC:20260216T100000
DTEND;TZID=UTC:20260216T170000
DTSTAMP:20260424T114542
CREATED:20210202T082439Z
LAST-MODIFIED:20250417T093425Z
UID:1833-1771236000-1771261200@tinahilbertconsulting.com
SUMMARY:Monday 10:00 AM CST  Kundalini Yoga
DESCRIPTION:
URL:https://tinahilbertconsulting.com/event/monday-1000-am-cst-kundalini-yoga/2026-02-16/
ATTACH;FMTTYPE=image/png:https://tinahilbertconsulting.com/wp-content/uploads/2021/02/144738930_243480787320604_9093137081096043842_n-1.png
END:VEVENT
BEGIN:VEVENT
DTSTART;TZID=UTC:20260209T100000
DTEND;TZID=UTC:20260209T170000
DTSTAMP:20260424T114542
CREATED:20210202T082439Z
LAST-MODIFIED:20250417T093424Z
UID:1832-1770631200-1770656400@tinahilbertconsulting.com
SUMMARY:Monday 10:00 AM CST  Kundalini Yoga
DESCRIPTION:
URL:https://tinahilbertconsulting.com/event/monday-1000-am-cst-kundalini-yoga/2026-02-09/
ATTACH;FMTTYPE=image/png:https://tinahilbertconsulting.com/wp-content/uploads/2021/02/144738930_243480787320604_9093137081096043842_n-1.png
END:VEVENT
BEGIN:VEVENT
DTSTART;TZID=UTC:20260202T100000
DTEND;TZID=UTC:20260202T170000
DTSTAMP:20260424T114542
CREATED:20210202T082439Z
LAST-MODIFIED:20250417T093424Z
UID:1831-1770026400-1770051600@tinahilbertconsulting.com
SUMMARY:Monday 10:00 AM CST  Kundalini Yoga
DESCRIPTION:
URL:https://tinahilbertconsulting.com/event/monday-1000-am-cst-kundalini-yoga/2026-02-02/
ATTACH;FMTTYPE=image/png:https://tinahilbertconsulting.com/wp-content/uploads/2021/02/144738930_243480787320604_9093137081096043842_n-1.png
END:VEVENT
BEGIN:VEVENT
DTSTART;TZID=UTC:20260126T100000
DTEND;TZID=UTC:20260126T170000
DTSTAMP:20260424T114542
CREATED:20210202T082439Z
LAST-MODIFIED:20250417T093423Z
UID:1830-1769421600-1769446800@tinahilbertconsulting.com
SUMMARY:Monday 10:00 AM CST  Kundalini Yoga
DESCRIPTION:
URL:https://tinahilbertconsulting.com/event/monday-1000-am-cst-kundalini-yoga/2026-01-26/
ATTACH;FMTTYPE=image/png:https://tinahilbertconsulting.com/wp-content/uploads/2021/02/144738930_243480787320604_9093137081096043842_n-1.png
END:VEVENT
BEGIN:VEVENT
DTSTART;TZID=UTC:20260119T100000
DTEND;TZID=UTC:20260119T170000
DTSTAMP:20260424T114542
CREATED:20210202T082439Z
LAST-MODIFIED:20250417T093420Z
UID:1829-1768816800-1768842000@tinahilbertconsulting.com
SUMMARY:Monday 10:00 AM CST  Kundalini Yoga
DESCRIPTION:
URL:https://tinahilbertconsulting.com/event/monday-1000-am-cst-kundalini-yoga/2026-01-19/
ATTACH;FMTTYPE=image/png:https://tinahilbertconsulting.com/wp-content/uploads/2021/02/144738930_243480787320604_9093137081096043842_n-1.png
END:VEVENT
BEGIN:VEVENT
DTSTART;TZID=UTC:20260112T100000
DTEND;TZID=UTC:20260112T170000
DTSTAMP:20260424T114542
CREATED:20210202T082439Z
LAST-MODIFIED:20250417T093419Z
UID:1825-1768212000-1768237200@tinahilbertconsulting.com
SUMMARY:Monday 10:00 AM CST  Kundalini Yoga
DESCRIPTION:
URL:https://tinahilbertconsulting.com/event/monday-1000-am-cst-kundalini-yoga/2026-01-12/
ATTACH;FMTTYPE=image/png:https://tinahilbertconsulting.com/wp-content/uploads/2021/02/144738930_243480787320604_9093137081096043842_n-1.png
END:VEVENT
BEGIN:VEVENT
DTSTART;TZID=UTC:20260105T100000
DTEND;TZID=UTC:20260105T170000
DTSTAMP:20260424T114542
CREATED:20210202T082439Z
LAST-MODIFIED:20250417T093419Z
UID:1824-1767607200-1767632400@tinahilbertconsulting.com
SUMMARY:Monday 10:00 AM CST  Kundalini Yoga
DESCRIPTION:
URL:https://tinahilbertconsulting.com/event/monday-1000-am-cst-kundalini-yoga/2026-01-05/
ATTACH;FMTTYPE=image/png:https://tinahilbertconsulting.com/wp-content/uploads/2021/02/144738930_243480787320604_9093137081096043842_n-1.png
END:VEVENT
BEGIN:VEVENT
DTSTART;TZID=UTC:20251229T100000
DTEND;TZID=UTC:20251229T170000
DTSTAMP:20260424T114542
CREATED:20210202T082439Z
LAST-MODIFIED:20250417T093418Z
UID:1823-1767002400-1767027600@tinahilbertconsulting.com
SUMMARY:Monday 10:00 AM CST  Kundalini Yoga
DESCRIPTION:
URL:https://tinahilbertconsulting.com/event/monday-1000-am-cst-kundalini-yoga/2025-12-29/
ATTACH;FMTTYPE=image/png:https://tinahilbertconsulting.com/wp-content/uploads/2021/02/144738930_243480787320604_9093137081096043842_n-1.png
END:VEVENT
BEGIN:VEVENT
DTSTART;TZID=UTC:20251222T100000
DTEND;TZID=UTC:20251222T170000
DTSTAMP:20260424T114542
CREATED:20210202T082439Z
LAST-MODIFIED:20250417T093418Z
UID:1822-1766397600-1766422800@tinahilbertconsulting.com
SUMMARY:Monday 10:00 AM CST  Kundalini Yoga
DESCRIPTION:
URL:https://tinahilbertconsulting.com/event/monday-1000-am-cst-kundalini-yoga/2025-12-22/
ATTACH;FMTTYPE=image/png:https://tinahilbertconsulting.com/wp-content/uploads/2021/02/144738930_243480787320604_9093137081096043842_n-1.png
END:VEVENT
BEGIN:VEVENT
DTSTART;TZID=UTC:20251215T100000
DTEND;TZID=UTC:20251215T170000
DTSTAMP:20260424T114542
CREATED:20210202T082439Z
LAST-MODIFIED:20250417T093417Z
UID:1821-1765792800-1765818000@tinahilbertconsulting.com
SUMMARY:Monday 10:00 AM CST  Kundalini Yoga
DESCRIPTION:
URL:https://tinahilbertconsulting.com/event/monday-1000-am-cst-kundalini-yoga/2025-12-15/
ATTACH;FMTTYPE=image/png:https://tinahilbertconsulting.com/wp-content/uploads/2021/02/144738930_243480787320604_9093137081096043842_n-1.png
END:VEVENT
BEGIN:VEVENT
DTSTART;TZID=UTC:20251208T100000
DTEND;TZID=UTC:20251208T170000
DTSTAMP:20260424T114542
CREATED:20210202T082439Z
LAST-MODIFIED:20250417T093416Z
UID:1820-1765188000-1765213200@tinahilbertconsulting.com
SUMMARY:Monday 10:00 AM CST  Kundalini Yoga
DESCRIPTION:
URL:https://tinahilbertconsulting.com/event/monday-1000-am-cst-kundalini-yoga/2025-12-08/
ATTACH;FMTTYPE=image/png:https://tinahilbertconsulting.com/wp-content/uploads/2021/02/144738930_243480787320604_9093137081096043842_n-1.png
END:VEVENT
BEGIN:VEVENT
DTSTART;TZID=UTC:20251201T100000
DTEND;TZID=UTC:20251201T170000
DTSTAMP:20260424T114542
CREATED:20210202T082439Z
LAST-MODIFIED:20250417T093416Z
UID:1819-1764583200-1764608400@tinahilbertconsulting.com
SUMMARY:Monday 10:00 AM CST  Kundalini Yoga
DESCRIPTION:
URL:https://tinahilbertconsulting.com/event/monday-1000-am-cst-kundalini-yoga/2025-12-01/
ATTACH;FMTTYPE=image/png:https://tinahilbertconsulting.com/wp-content/uploads/2021/02/144738930_243480787320604_9093137081096043842_n-1.png
END:VEVENT
BEGIN:VEVENT
DTSTART;TZID=UTC:20251124T100000
DTEND;TZID=UTC:20251124T170000
DTSTAMP:20260424T114542
CREATED:20210202T082439Z
LAST-MODIFIED:20250417T093415Z
UID:1818-1763978400-1764003600@tinahilbertconsulting.com
SUMMARY:Monday 10:00 AM CST  Kundalini Yoga
DESCRIPTION:
URL:https://tinahilbertconsulting.com/event/monday-1000-am-cst-kundalini-yoga/2025-11-24/
ATTACH;FMTTYPE=image/png:https://tinahilbertconsulting.com/wp-content/uploads/2021/02/144738930_243480787320604_9093137081096043842_n-1.png
END:VEVENT
BEGIN:VEVENT
DTSTART;TZID=UTC:20251117T100000
DTEND;TZID=UTC:20251117T170000
DTSTAMP:20260424T114542
CREATED:20210202T082439Z
LAST-MODIFIED:20250417T093415Z
UID:1817-1763373600-1763398800@tinahilbertconsulting.com
SUMMARY:Monday 10:00 AM CST  Kundalini Yoga
DESCRIPTION:
URL:https://tinahilbertconsulting.com/event/monday-1000-am-cst-kundalini-yoga/2025-11-17/
ATTACH;FMTTYPE=image/png:https://tinahilbertconsulting.com/wp-content/uploads/2021/02/144738930_243480787320604_9093137081096043842_n-1.png
END:VEVENT
BEGIN:VEVENT
DTSTART;TZID=UTC:20251110T100000
DTEND;TZID=UTC:20251110T170000
DTSTAMP:20260424T114542
CREATED:20210202T082439Z
LAST-MODIFIED:20250417T093412Z
UID:1816-1762768800-1762794000@tinahilbertconsulting.com
SUMMARY:Monday 10:00 AM CST  Kundalini Yoga
DESCRIPTION:
URL:https://tinahilbertconsulting.com/event/monday-1000-am-cst-kundalini-yoga/2025-11-10/
ATTACH;FMTTYPE=image/png:https://tinahilbertconsulting.com/wp-content/uploads/2021/02/144738930_243480787320604_9093137081096043842_n-1.png
END:VEVENT
BEGIN:VEVENT
DTSTART;TZID=UTC:20251103T100000
DTEND;TZID=UTC:20251103T170000
DTSTAMP:20260424T114542
CREATED:20210202T082439Z
LAST-MODIFIED:20250417T093411Z
UID:1815-1762164000-1762189200@tinahilbertconsulting.com
SUMMARY:Monday 10:00 AM CST  Kundalini Yoga
DESCRIPTION:
URL:https://tinahilbertconsulting.com/event/monday-1000-am-cst-kundalini-yoga/2025-11-03/
ATTACH;FMTTYPE=image/png:https://tinahilbertconsulting.com/wp-content/uploads/2021/02/144738930_243480787320604_9093137081096043842_n-1.png
END:VEVENT
BEGIN:VEVENT
DTSTART;TZID=UTC:20251027T100000
DTEND;TZID=UTC:20251027T170000
DTSTAMP:20260424T114542
CREATED:20210202T082439Z
LAST-MODIFIED:20250417T093411Z
UID:1814-1761559200-1761584400@tinahilbertconsulting.com
SUMMARY:Monday 10:00 AM CST  Kundalini Yoga
DESCRIPTION:
URL:https://tinahilbertconsulting.com/event/monday-1000-am-cst-kundalini-yoga/2025-10-27/
ATTACH;FMTTYPE=image/png:https://tinahilbertconsulting.com/wp-content/uploads/2021/02/144738930_243480787320604_9093137081096043842_n-1.png
END:VEVENT
BEGIN:VEVENT
DTSTART;TZID=UTC:20251020T100000
DTEND;TZID=UTC:20251020T170000
DTSTAMP:20260424T114542
CREATED:20210202T082439Z
LAST-MODIFIED:20250417T093410Z
UID:1797-1760954400-1760979600@tinahilbertconsulting.com
SUMMARY:Monday 10:00 AM CST  Kundalini Yoga
DESCRIPTION:
URL:https://tinahilbertconsulting.com/event/monday-1000-am-cst-kundalini-yoga/2025-10-20/
ATTACH;FMTTYPE=image/png:https://tinahilbertconsulting.com/wp-content/uploads/2021/02/144738930_243480787320604_9093137081096043842_n-1.png
END:VEVENT
BEGIN:VEVENT
DTSTART;TZID=UTC:20251013T100000
DTEND;TZID=UTC:20251013T170000
DTSTAMP:20260424T114542
CREATED:20210202T082439Z
LAST-MODIFIED:20250417T093410Z
UID:1785-1760349600-1760374800@tinahilbertconsulting.com
SUMMARY:Monday 10:00 AM CST  Kundalini Yoga
DESCRIPTION:
URL:https://tinahilbertconsulting.com/event/monday-1000-am-cst-kundalini-yoga/2025-10-13/
ATTACH;FMTTYPE=image/png:https://tinahilbertconsulting.com/wp-content/uploads/2021/02/144738930_243480787320604_9093137081096043842_n-1.png
END:VEVENT
BEGIN:VEVENT
DTSTART;TZID=UTC:20251006T100000
DTEND;TZID=UTC:20251006T170000
DTSTAMP:20260424T114542
CREATED:20210202T082439Z
LAST-MODIFIED:20250417T093409Z
UID:1784-1759744800-1759770000@tinahilbertconsulting.com
SUMMARY:Monday 10:00 AM CST  Kundalini Yoga
DESCRIPTION:
URL:https://tinahilbertconsulting.com/event/monday-1000-am-cst-kundalini-yoga/2025-10-06/
ATTACH;FMTTYPE=image/png:https://tinahilbertconsulting.com/wp-content/uploads/2021/02/144738930_243480787320604_9093137081096043842_n-1.png
END:VEVENT
BEGIN:VEVENT
DTSTART;TZID=UTC:20250929T100000
DTEND;TZID=UTC:20250929T170000
DTSTAMP:20260424T114542
CREATED:20210202T082439Z
LAST-MODIFIED:20250417T093408Z
UID:1783-1759140000-1759165200@tinahilbertconsulting.com
SUMMARY:Monday 10:00 AM CST  Kundalini Yoga
DESCRIPTION:
URL:https://tinahilbertconsulting.com/event/monday-1000-am-cst-kundalini-yoga/2025-09-29/
ATTACH;FMTTYPE=image/png:https://tinahilbertconsulting.com/wp-content/uploads/2021/02/144738930_243480787320604_9093137081096043842_n-1.png
END:VEVENT
END:VCALENDAR